BEGIN:VCALENDAR
VERSION:2.0
PRODID:-//Nette in Niedersachsen - ECPv6.11.2.1//NONSGML v1.0//EN
CALSCALE:GREGORIAN
METHOD:PUBLISH
X-WR-CALNAME:Nette in Niedersachsen
X-ORIGINAL-URL:https://nette-niedersachsen.de
X-WR-CALDESC:Veranstaltungen für Nette in Niedersachsen
REFRESH-INTERVAL;VALUE=DURATION:PT1H
X-Robots-Tag:noindex
X-PUBLISHED-TTL:PT1H
BEGIN:VTIMEZONE
TZID:Europe/Berlin
BEGIN:DAYLIGHT
TZOFFSETFROM:+0100
TZOFFSETTO:+0200
TZNAME:CEST
DTSTART:20260329T010000
END:DAYLIGHT
BEGIN:STANDARD
TZOFFSETFROM:+0200
TZOFFSETTO:+0100
TZNAME:CET
DTSTART:20261025T010000
END:STANDARD
END:VTIMEZONE
BEGIN:VEVENT
DTSTART;VALUE=DATE:20260424
DTEND;VALUE=DATE:20260425
DTSTAMP:20260424T035343
CREATED:20260210T140227Z
LAST-MODIFIED:20260210T140227Z
UID:3123-1776988800-1777075199@nette-niedersachsen.de
SUMMARY:Musikzug der FFW Nette (Anfänger) 14:50 - 15:35 Uhr
DESCRIPTION:
URL:https://nette-niedersachsen.de/event/musikzug-der-ffw-nette-anfaenger-1450-1535-uhr-11/
LOCATION:Spittahaus\, Hildesheimer Straße 1a\, Bockenem\, Niedersachsen\, 31167\, Germany
END:VEVENT
END:VCALENDAR